BEGIN:VCALENDAR
VERSION:2.0
PRODID:-//St. Mark&#039;s Episcopal Church | Marco Island, FL - ECPv6.15.20//NONSGML v1.0//EN
CALSCALE:GREGORIAN
METHOD:PUBLISH
X-WR-CALNAME:St. Mark&#039;s Episcopal Church | Marco Island, FL
X-ORIGINAL-URL:https://stmarksmarco.org
X-WR-CALDESC:Events for St. Mark&#039;s Episcopal Church | Marco Island, FL
REFRESH-INTERVAL;VALUE=DURATION:PT1H
X-Robots-Tag:noindex
X-PUBLISHED-TTL:PT1H
BEGIN:VTIMEZONE
TZID:America/New_York
BEGIN:DAYLIGHT
TZOFFSETFROM:-0500
TZOFFSETTO:-0400
TZNAME:EDT
DTSTART:20250309T070000
END:DAYLIGHT
BEGIN:STANDARD
TZOFFSETFROM:-0400
TZOFFSETTO:-0500
TZNAME:EST
DTSTART:20251102T060000
END:STANDARD
BEGIN:DAYLIGHT
TZOFFSETFROM:-0500
TZOFFSETTO:-0400
TZNAME:EDT
DTSTART:20260308T070000
END:DAYLIGHT
BEGIN:STANDARD
TZOFFSETFROM:-0400
TZOFFSETTO:-0500
TZNAME:EST
DTSTART:20261101T060000
END:STANDARD
BEGIN:DAYLIGHT
TZOFFSETFROM:-0500
TZOFFSETTO:-0400
TZNAME:EDT
DTSTART:20270314T070000
END:DAYLIGHT
BEGIN:STANDARD
TZOFFSETFROM:-0400
TZOFFSETTO:-0500
TZNAME:EST
DTSTART:20271107T060000
END:STANDARD
END:VTIMEZONE
BEGIN:VEVENT
DTSTART;VALUE=DATE:20260406
DTEND;VALUE=DATE:20260407
DTSTAMP:20260424T030631
CREATED:20260220T035529Z
LAST-MODIFIED:20260220T035529Z
UID:5002-1775433600-1775519999@stmarksmarco.org
SUMMARY:Office Closed
DESCRIPTION:Easter Monday – Office Closed
URL:https://stmarksmarco.org/event/office-closed-4/
LOCATION:St. Mark’s Episcopal Church\, 1101 North Collier Blvd.\, Marco Island\, FL\, 34145
ATTACH;FMTTYPE=image/png:https://stmarksmarco.org/wp-content/uploads/2026/02/Copy-of-office-closed.png
END:VEVENT
BEGIN:VEVENT
DTSTART;TZID=America/New_York:20260407T140000
DTEND;TZID=America/New_York:20260407T140000
DTSTAMP:20260424T030631
CREATED:20230914T185757Z
LAST-MODIFIED:20250909T115002Z
UID:4588-1775570400-1775570400@stmarksmarco.org
SUMMARY:Education for Ministry (EfM)
DESCRIPTION:EfM is a four-year adult Christian Formation program from the School of Theology at Sewanee. Through study\, prayer\, worship\, and reflection\, EfM seminar groups journey together through scripture\, church history\, and theology.  Would you like to know more about the Bible\, Christian tradition\, church history and theology?  Are you looking to deepen your faith? Are you hoping to understand how your personal experiences and beliefs bring you closer to God and God’s people? If you answered “yes\,” EfM may be for you.   Please contact kschillreff@comcast.net for more information.
URL:https://stmarksmarco.org/event/education-for-ministry-efm/2026-04-07/
LOCATION:St. Mark’s Episcopal Church\, 1101 North Collier Blvd.\, Marco Island\, FL\, 34145
ATTACH;FMTTYPE=image/png:https://stmarksmarco.org/wp-content/uploads/2023/09/Untitled-design-34.png
END:VEVENT
BEGIN:VEVENT
DTSTART;TZID=America/New_York:20260408T153000
DTEND;TZID=America/New_York:20260408T163000
DTSTAMP:20260424T030631
CREATED:20231003T152820Z
LAST-MODIFIED:20231003T152820Z
UID:4267-1775662200-1775665800@stmarksmarco.org
SUMMARY:Women's Bible Study
DESCRIPTION:Join us in the Library on Wednesdays at 3:30 PM for Women’s Bible Study with Nan.  All are welcome.
URL:https://stmarksmarco.org/event/womens-bible-study/2026-04-08/
LOCATION:St. Mark’s Episcopal Church\, 1101 North Collier Blvd.\, Marco Island\, FL\, 34145
ATTACH;FMTTYPE=image/png:https://stmarksmarco.org/wp-content/uploads/2023/10/WomensBibleStudy-1.png
END:VEVENT
BEGIN:VEVENT
DTSTART;TZID=America/New_York:20260408T173000
DTEND;TZID=America/New_York:20260408T173000
DTSTAMP:20260424T030631
CREATED:20240211T045011Z
LAST-MODIFIED:20240211T045011Z
UID:4329-1775669400-1775669400@stmarksmarco.org
SUMMARY:No Exceptions Band Practice
DESCRIPTION:No Exceptions Band practice is each Wednesday at 5:30 PM in Sanctuary. If you would like more information or have any questions\, please contact Shane Totten at tottensh@gmail.com.
URL:https://stmarksmarco.org/event/no-exceptions-band-practice-2-2025-05-21/2026-04-08/
LOCATION:St. Mark’s Episcopal Church\, 1101 North Collier Blvd.\, Marco Island\, FL\, 34145
ATTACH;FMTTYPE=image/png:https://stmarksmarco.org/wp-content/uploads/2023/10/NOEXCEPTIONS2023B.png
END:VEVENT
BEGIN:VEVENT
DTSTART;TZID=America/New_York:20260412T094500
DTEND;TZID=America/New_York:20260412T103000
DTSTAMP:20260424T030631
CREATED:20231021T182321Z
LAST-MODIFIED:20251024T112455Z
UID:4196-1775987100-1775989800@stmarksmarco.org
SUMMARY:Unified Fellowship
DESCRIPTION:Our one Unified Fellowship takes place from 9:45 AM – 10:30 AM in Parish Hall. This gives everyone\, no matter what service they attend\, the opportunity to gather over coffee and a goodie.
URL:https://stmarksmarco.org/event/unified-fellowship-2024-04-28-2024-11-17/2026-04-12/
LOCATION:St. Mark’s Episcopal Church\, 1101 North Collier Blvd.\, Marco Island\, FL\, 34145
ATTACH;FMTTYPE=image/png:https://stmarksmarco.org/wp-content/uploads/2023/10/fellowship.png
END:VEVENT
BEGIN:VEVENT
DTSTART;TZID=America/New_York:20260412T100000
DTEND;TZID=America/New_York:20260412T110000
DTSTAMP:20260424T030631
CREATED:20231015T014902Z
LAST-MODIFIED:20260109T125013Z
UID:4935-1775988000-1775991600@stmarksmarco.org
SUMMARY:Youth Group
DESCRIPTION:St. Mark’s Youth Group meets on Sundays from 10:00 AM – 11:00 AM in Willis Ministry Center.  For more information please contact pstotten@comcast.net.
URL:https://stmarksmarco.org/event/youth-group-2024-06-05-2025-09-03/2026-04-12/
LOCATION:St. Mark’s Episcopal Church\, 1101 North Collier Blvd.\, Marco Island\, FL\, 34145
ATTACH;FMTTYPE=image/png:https://stmarksmarco.org/wp-content/uploads/2023/10/Add-a-little-bit-of-body-text-35.png
END:VEVENT
END:VCALENDAR