BEGIN:VCALENDAR
VERSION:2.0
PRODID:-//St. Mark&#039;s Episcopal Church | Marco Island, FL - ECPv6.15.20//NONSGML v1.0//EN
CALSCALE:GREGORIAN
METHOD:PUBLISH
X-WR-CALNAME:St. Mark&#039;s Episcopal Church | Marco Island, FL
X-ORIGINAL-URL:https://stmarksmarco.org
X-WR-CALDESC:Events for St. Mark&#039;s Episcopal Church | Marco Island, FL
REFRESH-INTERVAL;VALUE=DURATION:PT1H
X-Robots-Tag:noindex
X-PUBLISHED-TTL:PT1H
BEGIN:VTIMEZONE
TZID:America/New_York
BEGIN:DAYLIGHT
TZOFFSETFROM:-0500
TZOFFSETTO:-0400
TZNAME:EDT
DTSTART:20250309T070000
END:DAYLIGHT
BEGIN:STANDARD
TZOFFSETFROM:-0400
TZOFFSETTO:-0500
TZNAME:EST
DTSTART:20251102T060000
END:STANDARD
BEGIN:DAYLIGHT
TZOFFSETFROM:-0500
TZOFFSETTO:-0400
TZNAME:EDT
DTSTART:20260308T070000
END:DAYLIGHT
BEGIN:STANDARD
TZOFFSETFROM:-0400
TZOFFSETTO:-0500
TZNAME:EST
DTSTART:20261101T060000
END:STANDARD
BEGIN:DAYLIGHT
TZOFFSETFROM:-0500
TZOFFSETTO:-0400
TZNAME:EDT
DTSTART:20270314T070000
END:DAYLIGHT
BEGIN:STANDARD
TZOFFSETFROM:-0400
TZOFFSETTO:-0500
TZNAME:EST
DTSTART:20271107T060000
END:STANDARD
END:VTIMEZONE
BEGIN:VEVENT
DTSTART;TZID=America/New_York:20260427T113000
DTEND;TZID=America/New_York:20260427T113000
DTSTAMP:20260424T014644
CREATED:20250520T020755Z
LAST-MODIFIED:20260328T201250Z
UID:4007-1777289400-1777289400@stmarksmarco.org
SUMMARY:Lunch Bunch - Stilt's Grill\, Marco Island
DESCRIPTION:Join the St. Mark’s Lunch Bunch on Monday\, April 27 at Stilt’s Grill at Marriott’s Crystal Shores on Marco Island for a luncheon social outing\, dutch-treat of course. Email mamamoe@stmarksmarco.org to RSVP  and if you need a ride as carpooling can be arranged.
URL:https://stmarksmarco.org/event/lunch-bunch-3/
LOCATION:St. Mark’s Episcopal Church\, 1101 North Collier Blvd.\, Marco Island\, FL\, 34145
ATTACH;FMTTYPE=image/png:https://stmarksmarco.org/wp-content/uploads/2025/05/Copy-of-lunch-bunch-18.png
END:VEVENT
BEGIN:VEVENT
DTSTART;TZID=America/New_York:20260428T140000
DTEND;TZID=America/New_York:20260428T140000
DTSTAMP:20260424T014644
CREATED:20230914T185757Z
LAST-MODIFIED:20250909T132006Z
UID:4591-1777384800-1777384800@stmarksmarco.org
SUMMARY:Education for Ministry (EfM)
DESCRIPTION:EfM is a four-year adult Christian Formation program from the School of Theology at Sewanee. Through study\, prayer\, worship\, and reflection\, EfM seminar groups journey together through scripture\, church history\, and theology.  Would you like to know more about the Bible\, Christian tradition\, church history and theology?  Are you looking to deepen your faith? Are you hoping to understand how your personal experiences and beliefs bring you closer to God and God’s people? If you answered “yes\,” EfM may be for you.   Please contact kschillreff@comcast.net for more information.
URL:https://stmarksmarco.org/event/education-for-ministry-efm/2026-04-28/
LOCATION:St. Mark’s Episcopal Church\, 1101 North Collier Blvd.\, Marco Island\, FL\, 34145
ATTACH;FMTTYPE=image/png:https://stmarksmarco.org/wp-content/uploads/2023/09/Untitled-design-34.png
END:VEVENT
BEGIN:VEVENT
DTSTART;TZID=America/New_York:20260429T153000
DTEND;TZID=America/New_York:20260429T163000
DTSTAMP:20260424T014644
CREATED:20231003T152820Z
LAST-MODIFIED:20231003T152820Z
UID:4270-1777476600-1777480200@stmarksmarco.org
SUMMARY:Women's Bible Study
DESCRIPTION:Join us in the Library on Wednesdays at 3:30 PM for Women’s Bible Study with Nan.  All are welcome.
URL:https://stmarksmarco.org/event/womens-bible-study/2026-04-29/
LOCATION:St. Mark’s Episcopal Church\, 1101 North Collier Blvd.\, Marco Island\, FL\, 34145
ATTACH;FMTTYPE=image/png:https://stmarksmarco.org/wp-content/uploads/2023/10/WomensBibleStudy-1.png
END:VEVENT
BEGIN:VEVENT
DTSTART;TZID=America/New_York:20260429T173000
DTEND;TZID=America/New_York:20260429T173000
DTSTAMP:20260424T014644
CREATED:20240211T045011Z
LAST-MODIFIED:20240211T045011Z
UID:4332-1777483800-1777483800@stmarksmarco.org
SUMMARY:No Exceptions Band Practice
DESCRIPTION:No Exceptions Band practice is each Wednesday at 5:30 PM in Sanctuary. If you would like more information or have any questions\, please contact Shane Totten at tottensh@gmail.com.
URL:https://stmarksmarco.org/event/no-exceptions-band-practice-2-2025-05-21/2026-04-29/
LOCATION:St. Mark’s Episcopal Church\, 1101 North Collier Blvd.\, Marco Island\, FL\, 34145
ATTACH;FMTTYPE=image/png:https://stmarksmarco.org/wp-content/uploads/2023/10/NOEXCEPTIONS2023B.png
END:VEVENT
BEGIN:VEVENT
DTSTART;TZID=America/New_York:20260502T123000
DTEND;TZID=America/New_York:20260502T143000
DTSTAMP:20260424T014644
CREATED:20240425T043856Z
LAST-MODIFIED:20260329T011026Z
UID:3072-1777725000-1777732200@stmarksmarco.org
SUMMARY:World Labyrinth Day:  Walk for Peace
DESCRIPTION:Everyone is invited to come and listen to the music of renowned Marco Island musician\, Shane Totten and to walk the Marco Island Labyrinth for Peace from 12:30-2:30pm.  “Walk as One at 1 for World Peace” is the international theme.  The labyrinth walks begin in Islands south of Australia at 1pm in their time zone and then moves around the globe in every country at 1pm in their time zone. \nNever walked a Labyrinth? We will be there to answer any questions you have.  A Labyrinth is not a maze–there is just one way in and one way out!  Some choose to walk with their thoughts private\, others meditate as they walk and others pray. Peace is the goal. \nPlease contact Ellen van Nagell\, (502} 445-0249 with questions.  Ellen is a member of St. Mark’s and a trained labyrinth facilitator.
URL:https://stmarksmarco.org/event/world-labyrinth-day-walk-for-peace/
LOCATION:St. Mark’s Episcopal Church\, 1101 North Collier Blvd.\, Marco Island\, FL\, 34145
ATTACH;FMTTYPE=image/jpeg:https://stmarksmarco.org/wp-content/uploads/2024/04/Image-10-22-24-at-8.03 PM.jpeg
END:VEVENT
BEGIN:VEVENT
DTSTART;TZID=America/New_York:20260503T100000
DTEND;TZID=America/New_York:20260503T110000
DTSTAMP:20260424T014644
CREATED:20231015T014902Z
LAST-MODIFIED:20260109T162030Z
UID:4938-1777802400-1777806000@stmarksmarco.org
SUMMARY:Youth Group
DESCRIPTION:St. Mark’s Youth Group meets on Sundays from 10:00 AM – 11:00 AM in Willis Ministry Center.  For more information please contact pstotten@comcast.net.
URL:https://stmarksmarco.org/event/youth-group-2024-06-05-2025-09-03/2026-05-03/
LOCATION:St. Mark’s Episcopal Church\, 1101 North Collier Blvd.\, Marco Island\, FL\, 34145
ATTACH;FMTTYPE=image/png:https://stmarksmarco.org/wp-content/uploads/2023/10/Add-a-little-bit-of-body-text-35.png
END:VEVENT
END:VCALENDAR